BEGIN:VCALENDAR
VERSION:2.0
PRODID:-//AudioTheme 3.0.2
BEGIN:VEVENT
UID:urn:uuid:9b9470ed-05f3-421e-97e6-33ecd132bae5
URL:https://maryflower.com/shows/portland-guitar-society-featured-act/
DTSTART;TZID=GMT:20230716T000000
SUMMARY:Mary solo at Portland Guitar Society
DESCRIPTION:The open stage starts at 7 and I start at 8.
LOCATION:Artichoke Music\, 2001 SE Powell Blvd\, Portland\, OR\, United States\, 97202
END:VEVENT
END:VCALENDAR
