BEGIN:VCALENDAR
VERSION:2.0
PRODID:-//AudioTheme 3.0.2
BEGIN:VEVENT
UID:urn:uuid:97ec7f7f-c41b-4d14-8803-f2079f2d1bfd
URL:https://maryflower.com/shows/public-coast-farm-w-spud-siegel-and-doc-stein/
DTSTART;TZID=GMT:20240817T000000
SUMMARY:Public Coast Farm w/Spud Siegel and Doc Stein
LOCATION:Public Coast Farm\, 22330 NW Fisher Rd\, Banks\, OR
END:VEVENT
END:VCALENDAR
