BEGIN:VCALENDAR
VERSION:2.0
PRODID:-//AudioTheme 3.0.2
BEGIN:VEVENT
UID:urn:uuid:70d17ad1-09f8-4c58-ae4b-3dcb99b10c65
URL:https://maryflower.com/shows/quebec-house-concert-w-michael-jerome-browne/
DTSTART;TZID=GMT:20240701T000000
SUMMARY:Quebec House Concert w/Michael Jerome Browne
LOCATION:Quebec House Concert\, Morin Heights\, Quebec
END:VEVENT
END:VCALENDAR
