BEGIN:VCALENDAR
VERSION:2.0
PRODID:-//AudioTheme 3.0.2
BEGIN:VEVENT
UID:urn:uuid:7a26361e-8e48-444e-ad2c-09001d455b17
URL:https://maryflower.com/shows/ragtime-guitar-workshop/
DTSTART;TZID=GMT:20240818T000000
SUMMARY:Hands On Ragtime Guitar workshop
DESCRIPTION:Sponsored by Portland FolkMusic Society   $50  3-4:30 PM  https://portlandfolkmusic.org/content.aspx?page_id=4002&club_id=748368&item_id=2278148&actr=3
LOCATION:Reedwood Friends Church\, 2901 SE Steele St\, Portland\, OR\, United States\, 97202
END:VEVENT
END:VCALENDAR
