BEGIN:VCALENDAR
VERSION:2.0
PRODID:-//AudioTheme 3.0.2
BEGIN:VEVENT
UID:urn:uuid:35899d78-394b-440d-943f-1f01183832ba
URL:https://maryflower.com/shows/seattle-folklife-festival-2/
DTSTART;TZID=GMT:20240527T000000
SUMMARY:Seattle Folklife Festival
DESCRIPTION:Mary's first set is 1:30-2:15 at the Vera Project/Gallery.
LOCATION:Seattle Center\, 305 Harrison St\, Seattle\, WA
END:VEVENT
END:VCALENDAR
