BEGIN:VCALENDAR
VERSION:2.0
PRODID:-//AudioTheme 3.0.2
BEGIN:VEVENT
UID:urn:uuid:522ee5f8-e3da-49c4-aece-b727174bdbab
URL:https://maryflower.com/shows/seattle-folklore-society/
DTSTART;VALUE=DATE:20220409
SUMMARY:Mary solo at Seattle Folklore Society
LOCATION:Phinney Ctr\, 6532 Phinney Ave N\, Seattle\, WA
END:VEVENT
END:VCALENDAR
