BEGIN:VCALENDAR
VERSION:2.0
PRODID:-//AudioTheme 3.0.2
BEGIN:VEVENT
UID:urn:uuid:6410f00d-97d5-4c68-888c-ce809c65f85b
URL:https://maryflower.com/shows/seattle-with-eric-lugoush/
DTSTART;TZID=GMT:20221015T000000
SUMMARY:Seattle's Kenyon Hall w/Eric
DESCRIPTION:Doors at 7.
LOCATION:Kenyon Hall\, 7904 35th Ave SW\, Seattle\, WA
END:VEVENT
END:VCALENDAR
