BEGIN:VCALENDAR
VERSION:2.0
PRODID:-//AudioTheme 3.0.2
BEGIN:VEVENT
UID:urn:uuid:652be347-d6d3-4a2e-a66e-e18c7b5d49bc
URL:https://maryflower.com/shows/sitting-in-w-wonderly/
DTSTART;TZID=GMT:20241102T000000
SUMMARY:Sitting in w/Wonderly
DESCRIPTION:I'll be a guest with Jim Brunburg and Ben Landsverk as they celebrate Jim's new record.
LOCATION:The Old Church Concert Hall\, 1422 SW 11th\, Portland\, OR\, United States\, 97201
END:VEVENT
END:VCALENDAR
