BEGIN:VCALENDAR
VERSION:2.0
PRODID:-//AudioTheme 3.0.2
BEGIN:VEVENT
UID:urn:uuid:78d39059-7c68-41dc-8724-178f2ff453dd
URL:https://maryflower.com/shows/slo/
DTSTART;TZID=GMT:20230916T000000
SUMMARY:San Luis Obispo
DESCRIPTION:Round robin with some great players.
LOCATION:Cuesta College/CPAC\, Pacific Hwy\, San Luis Obispo\, CA
END:VEVENT
END:VCALENDAR
