BEGIN:VCALENDAR
VERSION:2.0
PRODID:-//AudioTheme 3.0.2
BEGIN:VEVENT
UID:urn:uuid:6d003db2-31b9-4b45-85cc-be75f9dc0a17
URL:https://maryflower.com/shows/smile-summer-series-w-adam-scramstad/
DTSTART;TZID=GMT:20240713T000000
SUMMARY:SMILE Summer Series w/Adam Scramstad
DESCRIPTION:https://sellwood.org/smile-summer-music/  Outdoor community concert free to the public
LOCATION:Windemere Building parking lot\, Se 16th Av and SE Rural\, Sellwood/Westmoreland\, OR
END:VEVENT
END:VCALENDAR
