BEGIN:VCALENDAR
VERSION:2.0
PRODID:-//AudioTheme 3.0.2
BEGIN:VEVENT
UID:urn:uuid:5ea0d2cd-92b5-4ce7-aced-c87e9464f5b0
URL:https://maryflower.com/shows/solo-at-waterfront-blues-fest-crossroads-stage/
DTSTART;TZID=GMT:20220703T000000
SUMMARY:Solo at Waterfront Blues Fest, Crossroads Stage
LOCATION:Waterfront Blues Fest\, Tom McCall Waterfront Park (near Hawthorne Bridge)\, Portland \, OR
END:VEVENT
END:VCALENDAR
