BEGIN:VCALENDAR
VERSION:2.0
PRODID:-//AudioTheme 3.0.2
BEGIN:VEVENT
UID:urn:uuid:555ae922-8f31-4aeb-a196-8f16e3b68bc2
URL:https://maryflower.com/shows/strum-w-bbq-boys/
DTSTART;TZID=GMT:20241208T000000
SUMMARY:Strum w/BBQ Boys
LOCATION:Strum Guitars\, 1415 SE Stark\, Portland\, OR\, United States\, 97213
END:VEVENT
END:VCALENDAR
