BEGIN:VCALENDAR
VERSION:2.0
PRODID:-//AudioTheme 3.0.2
BEGIN:VEVENT
UID:urn:uuid:5498e297-8650-4d52-8fa9-f9ed8ddb603b
URL:https://maryflower.com/shows/swallow-hill-music-assn-w-sam-broussard/
DTSTART;TZID=GMT:20240427T000000
SUMMARY:Mary w/Sam Broussard in Denver, CO
DESCRIPTION:Back to the old stomping grounds where I taught and performed for 30 years. I'll join up with Louisiana's Sam Broussard for a night of original tunes. Sam usually plays with Steve Riley and the Mamou Playboys but I stole him away for the weekend.  www.swallowhillmusic.org
LOCATION:Swallow Hill Music Assn\, 71 E  Yale\, Denver\, CO
END:VEVENT
END:VCALENDAR
