BEGIN:VCALENDAR
VERSION:2.0
PRODID:-//AudioTheme 3.0.2
BEGIN:VEVENT
UID:urn:uuid:9c427a51-f360-4d4c-a60b-e0d5f997c2da
URL:https://maryflower.com/shows/three-tracks-music/
DTSTART;TZID=GMT:20230407T000000
SUMMARY:Mary solo in St John's
LOCATION:Three Tracks Music\, 8641 N Lombard\, St John's (Portland)\, OR
END:VEVENT
END:VCALENDAR
