BEGIN:VCALENDAR
VERSION:2.0
PRODID:-//AudioTheme 3.0.2
BEGIN:VEVENT
UID:urn:uuid:56038f84-bbd7-4097-a0da-8d852dedad98
URL:https://maryflower.com/shows/w-alan-hager-benefit-for-marlena-masterson/
DTSTART;TZID=GMT:20231015T000000
SUMMARY:W/Alan Hager, Benefit for Marlena Masterson
DESCRIPTION:W/Lisa Mann\, Ben Rice\, Sonny Hess and many more.
LOCATION:Mekong Bistro\, 8200 NE Siskiyou\, Portland\, OR
END:VEVENT
END:VCALENDAR
