BEGIN:VCALENDAR
VERSION:2.0
PRODID:-//AudioTheme 3.0.2
BEGIN:VEVENT
UID:urn:uuid:821ed281-1c39-4ddf-9981-d3077dcf433d
URL:https://maryflower.com/shows/w-bbq-boys-3/
DTSTART;TZID=GMT:20190126T000000
SUMMARY:w/BBQ Boys
LOCATION:Catfish Lou's\, 2460 NW 24th Av\, Portland\, OR
END:VEVENT
END:VCALENDAR
