BEGIN:VCALENDAR
VERSION:2.0
PRODID:-//AudioTheme 3.0.2
BEGIN:VEVENT
UID:urn:uuid:88b91e84-e78e-4a51-90fb-e5210b91a496
URL:https://maryflower.com/shows/w-harmonica-great-kim-field/
DTSTART;TZID=GMT:20220306T000000
SUMMARY:Mary w/harmonica great Kim Field and Jesse Withers on bass
DESCRIPTION:A first gig for this trio!
LOCATION:Strum Guitars\, 1415 SE Stark\, Portland\, OR\, United States\, 97213
END:VEVENT
END:VCALENDAR
