BEGIN:VCALENDAR
VERSION:2.0
PRODID:-//AudioTheme 3.0.2
BEGIN:VEVENT
UID:urn:uuid:7f887dcd-b7cd-4f01-b238-8799cc549ebf
URL:https://maryflower.com/shows/w-lauren-sheehan-strum/
DTSTART;TZID=GMT:20240303T000000
SUMMARY:W/Lauren Sheehan @Strum
DESCRIPTION:A nice Sunday afternoon double bill w/Lauren\, trading songs.
LOCATION:Strum Guitars\, 1415 SE Stark\, Portland\, OR\, United States\, 97213
END:VEVENT
END:VCALENDAR
