BEGIN:VCALENDAR
VERSION:2.0
PRODID:-//AudioTheme 3.0.2
BEGIN:VEVENT
UID:urn:uuid:b7285351-17d1-4aa6-8e46-5fa05c98a38e
URL:https://maryflower.com/shows/w-leon-cotter-and-cyrus-nabipoor/
DTSTART;TZID=GMT:20260223T000000
SUMMARY:W/Leon Cotter and Cyrus Nabipoor at Jobar
DESCRIPTION:I am thrilled to be working with these two jazz legends on this NOLA music night!  Cyrus on trumpet and Leon on Clarinet should make it a night to be remembered!
LOCATION:Jobar\, 715 NW 23rd\, Portland\, 
END:VEVENT
END:VCALENDAR
