BEGIN:VCALENDAR
VERSION:2.0
PRODID:-//AudioTheme 3.0.2
BEGIN:VEVENT
UID:urn:uuid:62baf0f1-0651-4c77-a766-e07afa3c495d
URL:https://maryflower.com/shows/w-leon-cotter-at-jobar-papa-haydens/
DTSTART;TZID=GMT:20260215T000000
SUMMARY:W/Leon Cotter at JoBar (@ Papa Hayden's)
DESCRIPTION:My favorite duo partner and I playing for diners and sippers No cover.
LOCATION:Jobar\, 715 NW 23rd\, Portland\, 
END:VEVENT
END:VCALENDAR
