BEGIN:VCALENDAR
VERSION:2.0
PRODID:-//AudioTheme 3.0.2
BEGIN:VEVENT
UID:urn:uuid:f7f63fe6-5ed7-45f9-9ad2-1c76e0f0b49f
URL:https://maryflower.com/shows/w-leon-cotter-at-peninsula-arts-in-long-beach-wa/
DTSTART;TZID=GMT:20260606T230000
SUMMARY:W/Leon Cotter at Peninsula Arts in Long Beach, WA
LOCATION:Peninsula Arts Center\, 504 Pacific Avenue North \, Long Beach\, WA\, United States
END:VEVENT
END:VCALENDAR
