BEGIN:VCALENDAR
VERSION:2.0
PRODID:-//AudioTheme 3.0.2
BEGIN:VEVENT
UID:urn:uuid:f457b032-3dd1-4fde-b841-6d0aaef9153d
URL:https://maryflower.com/shows/w-mark-shark-at-artichoke-music/
DTSTART;TZID=GMT:20230819T000000
SUMMARY:W/Mark Shark at Artichoke Music
LOCATION:Artichoke Music\, 2001 SE Powell Blvd\, Portland\, OR\, United States\, 97202
END:VEVENT
END:VCALENDAR
