BEGIN:VCALENDAR
VERSION:2.0
PRODID:-//AudioTheme 3.0.2
BEGIN:VEVENT
UID:urn:uuid:cad836aa-9317-4d8b-9c03-4c62a66974d1
URL:https://maryflower.com/shows/w-pat-donohue-at-midway-saloon-in-st-paul-mn/
DTSTART;TZID=GMT:20251217T000000
SUMMARY:W/Pat Donohue at Midway Saloon in St Paul, MN
LOCATION:The Midway Saloon\, 1567 University Ave W\, St Paul\, MN
END:VEVENT
END:VCALENDAR
