BEGIN:VCALENDAR
VERSION:2.0
PRODID:-//AudioTheme 3.0.2
BEGIN:VEVENT
UID:urn:uuid:84f00404-b04d-4b63-8e5c-89e66e995d3c
URL:https://maryflower.com/shows/w-spud-siegel-and-doc-stein-in-oysterville-wa/
DTSTART;TZID=GMT:20230910T000000
SUMMARY:W/Spud Siegel and Doc Stein in Oysterville, WA!
DESCRIPTION:Potluck\, $20 tickets\, contact sydneyofoysterville@gmail.com
LOCATION:Sydney's house concert\, 33712 Territory Road\, Oysterville\, WA
END:VEVENT
END:VCALENDAR
