BEGIN:VCALENDAR
VERSION:2.0
PRODID:-//AudioTheme 3.0.2
BEGIN:VEVENT
UID:urn:uuid:4876ca43-1106-41fb-983d-8e7c3d9dad42
URL:https://maryflower.com/shows/waterfront-blues-fest-w-kim-field/
DTSTART;TZID=GMT:20220704T000000
SUMMARY:Waterfront Blues Fest w/Kim Field on the Blues Cruise
DESCRIPTION:On the Blues Cruise!  Looking forward to playing on the Willamette River again.
LOCATION:Waterfront Blues Fest\, Tom McCall Waterfront Park (near Hawthorne Bridge)\, Portland \, OR
END:VEVENT
END:VCALENDAR
