BEGIN:VCALENDAR
VERSION:2.0
PRODID:-//AudioTheme 3.0.2
BEGIN:VEVENT
UID:urn:uuid:4e149cfb-7b8f-4cef-b9a4-f133a2e4fb49
URL:https://maryflower.com/shows/waterfront-blues-festival-2/
DTSTART;TZID=GMT:20240706T000000
SUMMARY:Waterfront Blues Festival
DESCRIPTION:3-5 PM on the top deck of Portland Spirit boat with Spud Siegel and Doc Stein.  7:00 PM\, interview with Sunpie Barnes on the Crossroads Stage.
LOCATION:Tom McCall Waterfront Park\, SW Naito Parkway\, Portland\, OR\, United States
END:VEVENT
END:VCALENDAR
