BEGIN:VCALENDAR
VERSION:2.0
PRODID:-//AudioTheme 3.0.2
BEGIN:VEVENT
UID:urn:uuid:b807e80c-12a8-4ddb-8da6-fc0410216808
URL:https://maryflower.com/shows/waterfront-blues-festival/
DTSTART;TZID=GMT:20230701T000000
SUMMARY:Waterfront Blues Festival Crossroads Stage w/Sam Broussard
DESCRIPTION:Joining me will be special guest Sam Broussard\, guitarist for Steve Riley. He has always been one of my favorites. Don't miss him playing something different from the Mamou Playboys.
LOCATION:Waterfront Blues Fest\, Tom McCall Waterfront Park (near Hawthorne Bridge)\, Portland \, OR
END:VEVENT
END:VCALENDAR
