BEGIN:VCALENDAR
VERSION:2.0
PRODID:-//AudioTheme 3.0.2
BEGIN:VEVENT
UID:urn:uuid:fcd8a030-dffd-4b31-a86d-8fdc59f73c58
URL:https://maryflower.com/shows/waterworks/
DTSTART;VALUE=DATE:20230318
SUMMARY:Waterworks
DESCRIPTION:St John's Cultural Council and the Gamble Rogers Folk Festival are hosting Mary's show at this beautiful 100 seat venue.
LOCATION:Waterworks\, 1458 San Marco Blvd.\, Saint Augustine\, Fl
END:VEVENT
END:VCALENDAR
