BEGIN:VCALENDAR
VERSION:2.0
PRODID:-//AudioTheme 3.0.2
BEGIN:VEVENT
UID:urn:uuid:8aa8b19f-f4a1-4add-9211-c33d37dc681b
URL:https://maryflower.com/shows/whirlybird/
DTSTART;VALUE=DATE:20251114
SUMMARY:Whirlybird in Louisiana
LOCATION:Whirlybird\, Opelousas\, LA
END:VEVENT
END:VCALENDAR
