BEGIN:VCALENDAR
VERSION:2.0
PRODID:-//AudioTheme 3.0.2
BEGIN:VEVENT
UID:urn:uuid:63dd5cb2-af77-410e-a0e9-e1e3695de921
URL:https://maryflower.com/shows/winterfolk/
DTSTART;TZID=GMT:20220205T000000
SUMMARY:Winterfolk
LOCATION:Alberta Rose Theater\, 3000 NE Alberta St\, Portland\, OR
END:VEVENT
END:VCALENDAR
