BEGIN:VCALENDAR
VERSION:2.0
PRODID:-//AudioTheme 3.0.2
BEGIN:VEVENT
UID:urn:uuid:afccdde6-88ae-42c3-ae4e-c97d5cd3b11c
URL:https://maryflower.com/shows/wooden-boat-festival-w-trio/
DTSTART;TZID=GMT:20240907T000000
SUMMARY:Wooden Boat Festival w/trio in Pt Townsend, WA
LOCATION:Wooden Boat Festival\, 431 Water St\, Pt Townsend\, WA
END:VEVENT
END:VCALENDAR
