BEGIN:VCALENDAR
VERSION:2.0
PRODID:-//AudioTheme 3.0.2
BEGIN:VEVENT
UID:urn:uuid:ffd2d45d-7f7d-4083-943d-b6f61768e09c
URL:https://maryflower.com/shows/workshop-w-sam-broussard-on-two-guitars-in-denver/
DTSTART;TZID=GMT:20240428T000000
SUMMARY:Workshop w/Sam Broussard on Two Guitars in Denver
DESCRIPTION:Mary and Sam will discuss guitar arrangements for 2 guitars playing roots music. 
LOCATION:Swallow Hill Music Assn\, 71 E  Yale\, Denver\, CO
END:VEVENT
END:VCALENDAR
